BEGIN:VCALENDAR
VERSION:2.0
PRODID:-//cc4d.nl Craving space And Stoacisme meditation &amp;more - ECPv6.15.20//NONSGML v1.0//EN
CALSCALE:GREGORIAN
METHOD:PUBLISH
X-ORIGINAL-URL:https://cc4d.nl
X-WR-CALDESC:Evenementen voor cc4d.nl Craving space And Stoacisme meditation &amp;more
REFRESH-INTERVAL;VALUE=DURATION:PT1H
X-Robots-Tag:noindex
X-PUBLISHED-TTL:PT1H
BEGIN:VTIMEZONE
TZID:UTC
BEGIN:STANDARD
TZOFFSETFROM:+0000
TZOFFSETTO:+0000
TZNAME:UTC
DTSTART:20240101T000000
END:STANDARD
END:VTIMEZONE
BEGIN:VEVENT
DTSTART;TZID=UTC:20251005T080000
DTEND;TZID=UTC:20251005T170000
DTSTAMP:20260423T171603
CREATED:20251107T000253Z
LAST-MODIFIED:20251006T010446Z
UID:79-1759651200-1759683600@cc4d.nl
SUMMARY:Laat Futhark Runnen trekken op een vraag naar keuze
DESCRIPTION:Laat de runnen Van de Futhark runes trekken
URL:https://cc4d.nl/event/laat-futhark-runnen-trekken-op-een-vraag-naar-keuze/
END:VEVENT
END:VCALENDAR